BEGIN:VCALENDAR
VERSION:2.0
PRODID:-//Funnel Queens® - ECPv6.15.10//NONSGML v1.0//EN
CALSCALE:GREGORIAN
METHOD:PUBLISH
X-WR-CALNAME:Funnel Queens®
X-ORIGINAL-URL:https://funnelqueens.com
X-WR-CALDESC:Events for Funnel Queens®
REFRESH-INTERVAL;VALUE=DURATION:PT1H
X-Robots-Tag:noindex
X-PUBLISHED-TTL:PT1H
BEGIN:VTIMEZONE
TZID:America/New_York
BEGIN:DAYLIGHT
TZOFFSETFROM:-0500
TZOFFSETTO:-0400
TZNAME:EDT
DTSTART:20200308T070000
END:DAYLIGHT
BEGIN:STANDARD
TZOFFSETFROM:-0400
TZOFFSETTO:-0500
TZNAME:EST
DTSTART:20201101T060000
END:STANDARD
BEGIN:DAYLIGHT
TZOFFSETFROM:-0500
TZOFFSETTO:-0400
TZNAME:EDT
DTSTART:20210314T070000
END:DAYLIGHT
BEGIN:STANDARD
TZOFFSETFROM:-0400
TZOFFSETTO:-0500
TZNAME:EST
DTSTART:20211107T060000
END:STANDARD
BEGIN:DAYLIGHT
TZOFFSETFROM:-0500
TZOFFSETTO:-0400
TZNAME:EDT
DTSTART:20220313T070000
END:DAYLIGHT
BEGIN:STANDARD
TZOFFSETFROM:-0400
TZOFFSETTO:-0500
TZNAME:EST
DTSTART:20221106T060000
END:STANDARD
BEGIN:DAYLIGHT
TZOFFSETFROM:-0500
TZOFFSETTO:-0400
TZNAME:EDT
DTSTART:20230312T070000
END:DAYLIGHT
BEGIN:STANDARD
TZOFFSETFROM:-0400
TZOFFSETTO:-0500
TZNAME:EST
DTSTART:20231105T060000
END:STANDARD
BEGIN:DAYLIGHT
TZOFFSETFROM:-0500
TZOFFSETTO:-0400
TZNAME:EDT
DTSTART:20240310T070000
END:DAYLIGHT
BEGIN:STANDARD
TZOFFSETFROM:-0400
TZOFFSETTO:-0500
TZNAME:EST
DTSTART:20241103T060000
END:STANDARD
BEGIN:DAYLIGHT
TZOFFSETFROM:-0500
TZOFFSETTO:-0400
TZNAME:EDT
DTSTART:20250309T070000
END:DAYLIGHT
BEGIN:STANDARD
TZOFFSETFROM:-0400
TZOFFSETTO:-0500
TZNAME:EST
DTSTART:20251102T060000
END:STANDARD
END:VTIMEZONE
BEGIN:VEVENT
DTSTART;TZID=America/New_York:20241027T170000
DTEND;TZID=America/New_York:20241027T200000
DTSTAMP:20260425T172826
CREATED:20241024T195358Z
LAST-MODIFIED:20241024T195358Z
UID:1603-1730048400-1730059200@funnelqueens.com
SUMMARY:Westwood Baptist Church Fall Festival (Cary\, NC)
DESCRIPTION:The Funnel Queens truck will be parked in Cary at Westwood Baptist Church on October 27th! \nOctober 27th | 5:00pm – 8:00pm EST\nWestwood Baptist Church\n200 Westhigh St.\nCary\, NC 27513 \n*Location\, Date\, and Time subject to change. Also\, events will be rescheduled if heavy rains or inclement weather.*\nWe can’t wait to see you\, and remember to follow the yellow truck! \nCome out to see us! Follow the yellow truck!\nFunnelQueens.com\n*Location\, date & time subject to change*\nAll times are in EST
URL:https://funnelqueens.com/schedule/westwood-baptist-church-fall-festival-cary-nc/
LOCATION:Westwood Baptist Church\, 200 Westhigh St.\, Cary\, NC\, 27513\, United States
CATEGORIES:2024 Events,2024 Events,2024 Festivals,Events,Festivals
ATTACH;FMTTYPE=image/jpeg:https://funnelqueens.com/wp-content/uploads/2022/12/IMG_8709-scaled.jpg
ORGANIZER;CN="Funnel Queens%C2%AE":MAILTO:Events@FunnelQueens.com
END:VEVENT
BEGIN:VEVENT
DTSTART;TZID=America/New_York:20241026T110000
DTEND;TZID=America/New_York:20241026T160000
DTSTAMP:20260425T172826
CREATED:20241024T194846Z
LAST-MODIFIED:20241024T194847Z
UID:1600-1729940400-1729958400@funnelqueens.com
SUMMARY:Rolesville Fall Festival (Rolesville\, NC)
DESCRIPTION:The Funnel Queens truck will be parked in Rolesville at the Rolesville Fall Festival on October 26th! \nOctober 26th | 11:00am – 4:00pm EST\nTown of Rolesville\n502 Southtown Circle\nRolesville\, NC 27571 \n*Location\, Date\, and Time subject to change. Also\, events will be rescheduled if heavy rains or inclement weather.*\nWe can’t wait to see you\, and remember to follow the yellow truck! \nCome out to see us! Follow the yellow truck!\nFunnelQueens.com\n*Location\, date & time subject to change*\nAll times are in EST
URL:https://funnelqueens.com/schedule/rolesville-fall-festival-rolesville-nc/
LOCATION:Town of Rolesville\, 502 Southtown Circle\, Rolesville\, NC\, 27571\, United States
CATEGORIES:2024 Events,2024 Events,2024 Festivals,Events,Festivals
ATTACH;FMTTYPE=image/jpeg:https://funnelqueens.com/wp-content/uploads/2022/12/IMG_8709-scaled.jpg
ORGANIZER;CN="Funnel Queens%C2%AE":MAILTO:Events@FunnelQueens.com
END:VEVENT
BEGIN:VEVENT
DTSTART;TZID=America/New_York:20241025T170000
DTEND;TZID=America/New_York:20241025T200000
DTSTAMP:20260425T172826
CREATED:20241024T193851Z
LAST-MODIFIED:20241024T193852Z
UID:1598-1729875600-1729886400@funnelqueens.com
SUMMARY:Exploris Fall Festival (Raleigh\, NC)
DESCRIPTION:The Funnel Queens truck will be parked at Exploris Middle School in Raleigh on October 25th! \nOctober 25th | 5:00pm – 8:00pm EST\nExploris Middle School\n401 Hillsborough St.\nRaleigh\, NC 27603 \n*Location\, Date\, and Time subject to change. Also\, events will be rescheduled if heavy rains or inclement weather.*\nWe can’t wait to see you\, and remember to follow the yellow truck! \nCome out to see us! Follow the yellow truck!\nFunnelQueens.com\n*Location\, date & time subject to change*\nAll times are in EST
URL:https://funnelqueens.com/schedule/exploris-fall-festival-raleigh-nc/
LOCATION:Exploris\, 17 S Swain St\, Raleigh\, NC\, 27601\, United States
CATEGORIES:2024 Events,2024 Festivals,Festivals
ATTACH;FMTTYPE=image/jpeg:https://funnelqueens.com/wp-content/uploads/2022/12/IMG_8709-scaled.jpg
ORGANIZER;CN="Funnel Queens%C2%AE":MAILTO:Events@FunnelQueens.com
END:VEVENT
BEGIN:VEVENT
DTSTART;TZID=America/New_York:20241018T180000
DTEND;TZID=America/New_York:20241018T200000
DTSTAMP:20260425T172826
CREATED:20241016T111814Z
LAST-MODIFIED:20241016T111814Z
UID:1593-1729274400-1729281600@funnelqueens.com
SUMMARY:Brier Creek Elementary Fall Festival (Raleigh\, NC)
DESCRIPTION:The Funnel Queens truck will be parked in Raleigh at William Peace University on October 17th! \nOctober 18th | 6:00pm – 8:00pm EST\nBrier Creek Elementary\n9650 Brier Creek Pkwy Ste 101\nRaleigh\, NC 27617 \n*Location\, Date\, and Time subject to change. Also\, events will be rescheduled if heavy rains or inclement weather.*\nWe can’t wait to see you\, and remember to follow the yellow truck! \nCome out to see us! Follow the yellow truck!\nFunnelQueens.com\n*Location\, date & time subject to change*\nAll times are in EST
URL:https://funnelqueens.com/schedule/brier-creek-elementary-fall-festival-raleigh-nc/
LOCATION:Brier Creek Elementary\, 9650 Brier Creek Pkwy Ste 101\, Raleigh\, NC\, 27617\, United States
CATEGORIES:2024 Events,2024 Events,2024 Festivals,Festivals
ATTACH;FMTTYPE=image/jpeg:https://funnelqueens.com/wp-content/uploads/2022/12/IMG_6127.jpg
ORGANIZER;CN="Funnel Queens%C2%AE":MAILTO:Events@FunnelQueens.com
END:VEVENT
BEGIN:VEVENT
DTSTART;TZID=America/New_York:20241012T140000
DTEND;TZID=America/New_York:20241012T180000
DTSTAMP:20260425T172826
CREATED:20241011T161501Z
LAST-MODIFIED:20241011T161501Z
UID:1582-1728741600-1728756000@funnelqueens.com
SUMMARY:Fall Fest Cook-off and Car Show (Raleigh\, NC)
DESCRIPTION:The Funnel Queens truck will be parked in Raleigh at Beacon Baptist on October 12th! \nOctober 12th | 2:00pm – 6:00pm EST\nBeacon Baptist\n2110 Trawick Rd.\nRaleigh\, NC 27604 \n*Location\, Date\, and Time subject to change. Also\, events will be rescheduled if heavy rains or inclement weather.*\nWe can’t wait to see you\, and remember to follow the yellow truck! \nCome out to see us! Follow the yellow truck!\nFunnelQueens.com\n*Location\, date & time subject to change*\nAll times are in EST
URL:https://funnelqueens.com/schedule/fall-fest-cook-off-and-car-show-raleigh-nc/
LOCATION:Beacon Baptist\, 2110 Trawick Rd.\, Raleigh\, NC\, 27604\, United States
CATEGORIES:2024 Events,2024 Events,2024 Festivals,Events,Festivals
ATTACH;FMTTYPE=image/png:https://funnelqueens.com/wp-content/uploads/2024/10/Funnel-Queens-Weekend-Events-Oct-11-12.png
ORGANIZER;CN="Funnel Queens%C2%AE":MAILTO:Events@FunnelQueens.com
END:VEVENT
BEGIN:VEVENT
DTSTART;TZID=America/New_York:20240713T110000
DTEND;TZID=America/New_York:20240713T200000
DTSTAMP:20260425T172826
CREATED:20240713T125453Z
LAST-MODIFIED:20240713T130824Z
UID:1566-1720868400-1720900800@funnelqueens.com
SUMMARY:Raleigh Summer Fest (Downtown Raleigh)
DESCRIPTION:The Funnel Queens will be parked at the Raleigh Summer Fest in DTR on July 13th! \nJuly 13th | 11:00am – 8:00pm EST\nDowntown Raleigh Fayetteville Street\n400 Fayetteville St.\nRaleigh\, NC 27610 \n*Location\, Date\, and Time subject to change. Also\, events will be rescheduled if heavy rains or inclement weather.*\nWe can’t wait to see you\, and remember to follow the yellow truck! \nCome out to see us! Follow the yellow truck!\nFunnelQueens.com\n*Location\, date & time subject to change*\nAll times are in EST
URL:https://funnelqueens.com/schedule/raleigh-summer-fest-downtown-raleigh/
LOCATION:Downtown Raleigh – Fayetteville Street\, 400 Fayetteville St\, Raleigh\, NC\, 27610\, United States
CATEGORIES:2024 Events,2024 Events,2024 Festivals,Festivals
ATTACH;FMTTYPE=image/jpeg:https://funnelqueens.com/wp-content/uploads/2022/12/IMG_6126.jpg
ORGANIZER;CN="Funnel Queens%C2%AE":MAILTO:Events@FunnelQueens.com
END:VEVENT
BEGIN:VEVENT
DTSTART;TZID=America/New_York:20220702T100000
DTEND;TZID=America/New_York:20220702T180000
DTSTAMP:20260425T172826
CREATED:20220521T142247Z
LAST-MODIFIED:20220521T142248Z
UID:1207-1656756000-1656784800@funnelqueens.com
SUMMARY:43rd Annual EnoFest (Durham\, NC)
DESCRIPTION:The Funnel Queens will be parked at the 43rd Annual EnoFest in Durham\, NC on July 2nd! \nJuly 2nd | 10:00am – 6:00pm EST\nWest Point on the Eno – Durham City Park\n5101 N Roxboro Rd\nDurham\, NC 27704 \n*Location\, Date\, and Time subject to change. Also\, events will be rescheduled if heavy rains or inclement weather.*\nWe can’t wait to see you\, and remember to follow the yellow truck! \nCome out to see us! Follow the yellow truck!\nFunnelQueens.com\n*Location\, date & time subject to change*\nAll times are in EST
URL:https://funnelqueens.com/schedule/43rd-annual-enofest-durham-nc/
LOCATION:West Point on the Eno – Durham City Park\, 5101 N Roxboro Rd\, Durham\, NC\, 27704\, United States
CATEGORIES:2022 Festivals,Festivals
ATTACH;FMTTYPE=image/jpeg:https://funnelqueens.com/wp-content/uploads/2022/05/FestivalfortheEno2022webbanner-01.jpeg
ORGANIZER;CN="Funnel Queens%C2%AE":MAILTO:Events@FunnelQueens.com
END:VEVENT
BEGIN:VEVENT
DTSTART;TZID=America/New_York:20220604T120000
DTEND;TZID=America/New_York:20220604T220000
DTSTAMP:20260425T172826
CREATED:20220521T134408Z
LAST-MODIFIED:20220521T134409Z
UID:1196-1654344000-1654380000@funnelqueens.com
SUMMARY:International Food Festival - DTR (Raleigh\, NC)
DESCRIPTION:The Funnel Queens will be parked at International Food Festival in downtown Raleigh\, NC on June 4th! \nJune 4th | 12:00pm – 10:00pm EST\nOne City Plaza\n421 Fayetteville St.\nRaleigh\, NC 27601 \n*Location\, Date\, and Time subject to change. Also\, events will be rescheduled if heavy rains or inclement weather.*\nWe can’t wait to see you\, and remember to follow the yellow truck! \nCome out to see us! Follow the yellow truck!\nFunnelQueens.com\n*Location\, date & time subject to change*\nAll times are in EST
URL:https://funnelqueens.com/schedule/international-food-festival-dtr-raleigh-nc/
LOCATION:One City Plaza\, 421 Fayetteville St\, Raleigh\, NC\, 27601\, United States
CATEGORIES:2022 Festivals,Festivals
ATTACH;FMTTYPE=image/jpeg:https://funnelqueens.com/wp-content/uploads/2022/05/International-Food-Festival_DTR_04JUN2022.jpeg
ORGANIZER;CN="Funnel Queens%C2%AE":MAILTO:Events@FunnelQueens.com
END:VEVENT
BEGIN:VEVENT
DTSTART;TZID=America/New_York:20220430T120000
DTEND;TZID=America/New_York:20220430T200000
DTSTAMP:20260425T172826
CREATED:20220320T190217Z
LAST-MODIFIED:20220422T201632Z
UID:1172-1651320000-1651348800@funnelqueens.com
SUMMARY:International Food Festival (Atlantic Beach\, NC)
DESCRIPTION:The Funnel Queens will be parked at International Food Festival in Atlantic Beach\, NC on April 30th! \nApril 30th | 12:00pm – 8:00pm EST\nAtlantic Beach Boardwalk\n201 W Atlantic Blvd\nAtlantic Beach\, NC 28512 \n*Location\, Date\, and Time subject to change. Also\, events will be rescheduled if heavy rains or inclement weather.*\nWe can’t wait to see you\, and remember to follow the yellow truck! \nCome out to see us! Follow the yellow truck!\nFunnelQueens.com\n*Location\, date & time subject to change*\nAll times are in EST
URL:https://funnelqueens.com/schedule/international-food-festival-atlantic-beach-nc/
LOCATION:International Food Festival – Atlantic Beach\, 201 W Atlantic Blvd\, Atlantic Beach\, NC\, 28512\, United States
CATEGORIES:2022 Festivals,Festivals
ATTACH;FMTTYPE=image/png:https://funnelqueens.com/wp-content/uploads/2021/05/Funnel-Queens-Truck-Lowes-Garner-NC.png
ORGANIZER;CN="Funnel Queens%C2%AE":MAILTO:Events@FunnelQueens.com
END:VEVENT
BEGIN:VEVENT
DTSTART;TZID=America/New_York:20210704T100000
DTEND;TZID=America/New_York:20210704T180000
DTSTAMP:20260425T172826
CREATED:20210609T133152Z
LAST-MODIFIED:20210609T133153Z
UID:964-1625392800-1625421600@funnelqueens.com
SUMMARY:EnoFest 2021 (Durham\, NC)
DESCRIPTION:The Funnel Queens will be at the 42nd Annual EnoFest 2021 in Durham\, NC on July 3rd and 4th! \nJuly 3rd | 10:00am – 6:00pm EST\nJuly 4th | 10:00am – 6:00pm EST\nWest Point on the Eno – Durham City Park\n5101 N Roxboro Rd\nDurham\, NC 27704 \n*Location\, Date\, and Time subject to change. Also\, events will be rescheduled if heavy rains or inclement weather.*\nWe can’t wait to see you\, and remember to follow the yellow truck! \nCome out to see us! Follow the yellow truck!\nFunnelQueens.com\n*Location\, date & time subject to change*\nAll times are in EST
URL:https://funnelqueens.com/schedule/enofest-2021-durham-nc-2/
LOCATION:West Point on the Eno – Durham City Park\, 5101 N Roxboro Rd\, Durham\, NC\, 27704\, United States
CATEGORIES:2021 Festivals,Festivals
ATTACH;FMTTYPE=image/jpeg:https://funnelqueens.com/wp-content/uploads/2021/06/42-Annual-EnoFest-2021-Promo.jpeg
ORGANIZER;CN="Funnel Queens%C2%AE":MAILTO:Events@FunnelQueens.com
END:VEVENT
BEGIN:VEVENT
DTSTART;TZID=America/New_York:20210703T100000
DTEND;TZID=America/New_York:20210703T180000
DTSTAMP:20260425T172826
CREATED:20210609T132837Z
LAST-MODIFIED:20210609T132839Z
UID:959-1625306400-1625335200@funnelqueens.com
SUMMARY:EnoFest 2021 (Durham\, NC)
DESCRIPTION:The Funnel Queens will be at the 42nd Annual EnoFest 2021 in Durham\, NC on July 3rd and 4th! \nJuly 3rd | 10:00am – 6:00pm EST\nJuly 4th | 10:00am – 6:00pm EST\nWest Point on the Eno – Durham City Park\n5101 N Roxboro Rd\nDurham\, NC 27704 \n*Location\, Date\, and Time subject to change. Also\, events will be rescheduled if heavy rains or inclement weather.*\nWe can’t wait to see you\, and remember to follow the yellow truck! \nCome out to see us! Follow the yellow truck!\nFunnelQueens.com\n*Location\, date & time subject to change*\nAll times are in EST
URL:https://funnelqueens.com/schedule/enofest-2021-durham-nc/
LOCATION:West Point on the Eno – Durham City Park\, 5101 N Roxboro Rd\, Durham\, NC\, 27704\, United States
CATEGORIES:Festivals
ATTACH;FMTTYPE=image/jpeg:https://funnelqueens.com/wp-content/uploads/2021/06/42-Annual-EnoFest-2021-Promo.jpeg
ORGANIZER;CN="Funnel Queens%C2%AE":MAILTO:Events@FunnelQueens.com
END:VEVENT
BEGIN:VEVENT
DTSTART;TZID=America/New_York:20210619T110000
DTEND;TZID=America/New_York:20210619T200000
DTSTAMP:20260425T172826
CREATED:20210608T120856Z
LAST-MODIFIED:20210608T121305Z
UID:925-1624100400-1624132800@funnelqueens.com
SUMMARY:Funnel Queens Juneteenth Celebration (Garner\, NC)
DESCRIPTION:Come out and celebrate a Juneteenth event with Funnel Queens and Demario’s Soul Food Restaurant.  \nSaturday | June 19th\n11:00am – 8:00pm EST\n1155 Timber Drive East Garner\, NC 27529 \nThis is a FREE EVENT! NO ENTRY FEES just black excellence! Radio station FM 92.1 FM Soul will also be there to help celebrate! \nWe will have entertainers\, a DJ\, soul food\, funnel cakes and more from the Funnel Queens and Demario’s Soul Food Restaurant. There will also be about 20 vendors for you to shop from and learn more about local black-owned businesses. \nHosts\n-Funnel Queens Food Truck /\nInstagram.com/FunnelQueens\nFunnelQueens.com\nDemario’s Soul Food Restaurant /\nDemariosclassiccatering.com\nEntertainers\n-DJ Marcelle Williams\n-Rap Artist Bee Simms / Instagram.com/_beesimms\n-Rap Artist Tanajah / Instagram.com/tanajahraps\n-Dance Group Pearls of Excellence / Instagram.com/pearlsofexcellence_ \nVendors\n-Journey with Jenita\n-Chase Memories\, LLC\n-Maneskin\n-AGs Bags and Accessories\n-Wax Bar Candle Company\n-Lashaunda Slays\n-Soul Sessions with Sunshine LLC\n-Crafted by Alston\n-Something Crafty by Bee\n-Nima Shop Boutique\n-Damsel Safety Crusaders\n-Simply Me and More\n-Above Art & Co\n-The Forgiveness Movement\n-AAH\, Inc.\n-His and Hers\n-LovlyDecora \nWe look forward to seeing you at the Juneteenth Celebration!
URL:https://funnelqueens.com/schedule/funnel-queens-juneteenth-celebration-garner-nc/
LOCATION:Demario’s Soul Food Restaurant\, 1155 Timber Dr. East\, Garner\, NC\, 27529\, United States
CATEGORIES:Festivals
ATTACH;FMTTYPE=image/jpeg:https://funnelqueens.com/wp-content/uploads/2021/05/Copy-of-Juneteenth-Made-with-PosterMyWall-2.jpg
ORGANIZER;CN="Funnel Queens%C2%AE":MAILTO:Events@FunnelQueens.com
END:VEVENT
BEGIN:VEVENT
DTSTART;TZID=America/New_York:20210515T140000
DTEND;TZID=America/New_York:20210515T180000
DTSTAMP:20260425T172826
CREATED:20210513T013023Z
LAST-MODIFIED:20210513T013024Z
UID:847-1621087200-1621101600@funnelqueens.com
SUMMARY:Morrisville Springfest 2021 (Morrisville\, NC)
DESCRIPTION:The Funnel Queens will be parked at Morrisville Springfest 2021 in Morrisville\, NC on May 15th! \nMay 15th | 2:00pm – 6:00pm EST\nMorrisville Springfest 2021 (Morrisville\, NC)\nTown Hall Dr.\nMorrisville\, NC 27560 \n*Location\, Date\, and Time subject to change. Also\, events will be rescheduled if heavy rains or inclement weather.*\nWe can’t wait to see you\, and remember to follow the yellow truck! \nCome out to see us! Follow the yellow truck!\nFunnelQueens.com\n*Location\, date & time subject to change*\nAll times are in EST
URL:https://funnelqueens.com/schedule/morrisville-springfest-2021-morrisville-nc/
LOCATION:Town Hall Drive\, Town Hall Drive\, Morrisville\, NC\, 27560\, United States
CATEGORIES:Festivals
ATTACH;FMTTYPE=image/png:https://funnelqueens.com/wp-content/uploads/2021/05/Morrisville-Springfest-2021.png
ORGANIZER;CN="Funnel Queens%C2%AE":MAILTO:Events@FunnelQueens.com
END:VEVENT
END:VCALENDAR