BEGIN:VCALENDAR
VERSION:2.0
PRODID:-//Funnel Queens® - ECPv6.15.10//NONSGML v1.0//EN
CALSCALE:GREGORIAN
METHOD:PUBLISH
X-ORIGINAL-URL:https://funnelqueens.com
X-WR-CALDESC:Events for Funnel Queens®
REFRESH-INTERVAL;VALUE=DURATION:PT1H
X-Robots-Tag:noindex
X-PUBLISHED-TTL:PT1H
BEGIN:VTIMEZONE
TZID:America/New_York
BEGIN:DAYLIGHT
TZOFFSETFROM:-0500
TZOFFSETTO:-0400
TZNAME:EDT
DTSTART:20200308T070000
END:DAYLIGHT
BEGIN:STANDARD
TZOFFSETFROM:-0400
TZOFFSETTO:-0500
TZNAME:EST
DTSTART:20201101T060000
END:STANDARD
BEGIN:DAYLIGHT
TZOFFSETFROM:-0500
TZOFFSETTO:-0400
TZNAME:EDT
DTSTART:20210314T070000
END:DAYLIGHT
BEGIN:STANDARD
TZOFFSETFROM:-0400
TZOFFSETTO:-0500
TZNAME:EST
DTSTART:20211107T060000
END:STANDARD
BEGIN:DAYLIGHT
TZOFFSETFROM:-0500
TZOFFSETTO:-0400
TZNAME:EDT
DTSTART:20220313T070000
END:DAYLIGHT
BEGIN:STANDARD
TZOFFSETFROM:-0400
TZOFFSETTO:-0500
TZNAME:EST
DTSTART:20221106T060000
END:STANDARD
END:VTIMEZONE
BEGIN:VEVENT
DTSTART;TZID=America/New_York:20210704T100000
DTEND;TZID=America/New_York:20210704T180000
DTSTAMP:20260425T190004
CREATED:20210609T133152Z
LAST-MODIFIED:20210609T133153Z
UID:964-1625392800-1625421600@funnelqueens.com
SUMMARY:EnoFest 2021 (Durham\, NC)
DESCRIPTION:The Funnel Queens will be at the 42nd Annual EnoFest 2021 in Durham\, NC on July 3rd and 4th! \nJuly 3rd | 10:00am – 6:00pm EST\nJuly 4th | 10:00am – 6:00pm EST\nWest Point on the Eno – Durham City Park\n5101 N Roxboro Rd\nDurham\, NC 27704 \n*Location\, Date\, and Time subject to change. Also\, events will be rescheduled if heavy rains or inclement weather.*\nWe can’t wait to see you\, and remember to follow the yellow truck! \nCome out to see us! Follow the yellow truck!\nFunnelQueens.com\n*Location\, date & time subject to change*\nAll times are in EST
URL:https://funnelqueens.com/schedule/enofest-2021-durham-nc-2/
LOCATION:West Point on the Eno – Durham City Park\, 5101 N Roxboro Rd\, Durham\, NC\, 27704\, United States
CATEGORIES:2021 Festivals,Festivals
ATTACH;FMTTYPE=image/jpeg:https://funnelqueens.com/wp-content/uploads/2021/06/42-Annual-EnoFest-2021-Promo.jpeg
ORGANIZER;CN="Funnel Queens%C2%AE":MAILTO:Events@FunnelQueens.com
END:VEVENT
END:VCALENDAR