BEGIN:VCALENDAR
VERSION:2.0
PRODID:-//Funnel Queens® - ECPv6.15.10//NONSGML v1.0//EN
CALSCALE:GREGORIAN
METHOD:PUBLISH
X-ORIGINAL-URL:https://funnelqueens.com
X-WR-CALDESC:Events for Funnel Queens®
REFRESH-INTERVAL;VALUE=DURATION:PT1H
X-Robots-Tag:noindex
X-PUBLISHED-TTL:PT1H
BEGIN:VTIMEZONE
TZID:America/New_York
BEGIN:DAYLIGHT
TZOFFSETFROM:-0500
TZOFFSETTO:-0400
TZNAME:EDT
DTSTART:20210314T070000
END:DAYLIGHT
BEGIN:STANDARD
TZOFFSETFROM:-0400
TZOFFSETTO:-0500
TZNAME:EST
DTSTART:20211107T060000
END:STANDARD
BEGIN:DAYLIGHT
TZOFFSETFROM:-0500
TZOFFSETTO:-0400
TZNAME:EDT
DTSTART:20220313T070000
END:DAYLIGHT
BEGIN:STANDARD
TZOFFSETFROM:-0400
TZOFFSETTO:-0500
TZNAME:EST
DTSTART:20221106T060000
END:STANDARD
BEGIN:DAYLIGHT
TZOFFSETFROM:-0500
TZOFFSETTO:-0400
TZNAME:EDT
DTSTART:20230312T070000
END:DAYLIGHT
BEGIN:STANDARD
TZOFFSETFROM:-0400
TZOFFSETTO:-0500
TZNAME:EST
DTSTART:20231105T060000
END:STANDARD
END:VTIMEZONE
BEGIN:VEVENT
DTSTART;TZID=America/New_York:20221118T173000
DTEND;TZID=America/New_York:20221118T213000
DTSTAMP:20260425T202553
CREATED:20221101T024228Z
LAST-MODIFIED:20221209T213719Z
UID:1313-1668792600-1668807000@funnelqueens.com
SUMMARY:NC State Moonlight in the Garden 2022 (Raleigh\, NC)
DESCRIPTION:The Funnel Queens will be at NC State’s Moonlight in the Garden in Raleigh\, NC on November 18th! \nNovember 18th | 5:30pm – 9:30pm EST\nNC State Moonlight in the Garden\nJC Raulston Arboretum\n4415 Beryl Rd.\nRaleigh\, NC 27606 \n*Location\, Date\, and Time subject to change. Also\, events will be rescheduled if heavy rains or inclement weather.*\nWe can’t wait to see you\, and remember to follow the yellow truck! \nCome out to see us! Follow the yellow truck!\nFunnelQueens.com\n*Location\, date & time subject to change*\nAll times are in EST
URL:https://funnelqueens.com/schedule/nc-state-moonlight-in-the-garden-2022-raleigh-nc/
LOCATION:JC Raulston Aboretum\, 4415 Beryl Rd.\, Raleigh\, NC\, 27606\, United States
CATEGORIES:2022 Events,Events
ATTACH;FMTTYPE=image/png:https://funnelqueens.com/wp-content/uploads/2021/04/Funnel-Queens-Truck-Pull-Up-Lowes-Garner-NC.png
ORGANIZER;CN="Funnel Queens%C2%AE":MAILTO:Events@FunnelQueens.com
END:VEVENT
BEGIN:VEVENT
DTSTART;TZID=America/New_York:20221104T190000
DTEND;TZID=America/New_York:20221104T210000
DTSTAMP:20260425T202553
CREATED:20221101T020129Z
LAST-MODIFIED:20221101T020130Z
UID:1310-1667588400-1667595600@funnelqueens.com
SUMMARY:NC State Homecoming Parade (Raleigh\, NC)
DESCRIPTION:The Funnel Queens will be at NC State’s Homecoming in Raleigh\, NC on November 4th! \nNovember 4th | 7:00pm – 9:00pm EST\nNC State Homecoming Parade\nNCSU Talley Student Union\n2610 Cates Ave.\nRaleigh\, NC 27607 \n*Location\, Date\, and Time subject to change. Also\, events will be rescheduled if heavy rains or inclement weather.*\nWe can’t wait to see you\, and remember to follow the yellow truck! \nCome out to see us! Follow the yellow truck!\nFunnelQueens.com\n*Location\, date & time subject to change*\nAll times are in EST
URL:https://funnelqueens.com/schedule/nc-state-homecoming-parade-raleigh-nc/
LOCATION:NCSU Talley Student Union\, 2610 Cates Ave.\, Raleigh\, NC\, 27607\, United States
CATEGORIES:2022 Events,Events
ATTACH;FMTTYPE=image/png:https://funnelqueens.com/wp-content/uploads/2021/04/Funnel-Queens-Truck-Lowes-Garner-NC.png
ORGANIZER;CN="Funnel Queens%C2%AE":MAILTO:Events@FunnelQueens.com
END:VEVENT
BEGIN:VEVENT
DTSTART;TZID=America/New_York:20221030T163000
DTEND;TZID=America/New_York:20221030T183000
DTSTAMP:20260425T202553
CREATED:20221011T232527Z
LAST-MODIFIED:20221011T232528Z
UID:1300-1667147400-1667154600@funnelqueens.com
SUMMARY:Point Church (Cary\, NC)
DESCRIPTION:The Funnel Queens will be at Point Cary Church in Cary\, NC on October 30th! \nOctober 30th | 4:30pm – 6:30pm EST\nPoint Church\n1503 Walnut St.\nCary\, NC 27511 \n*Location\, Date\, and Time subject to change. Also\, events will be rescheduled if heavy rains or inclement weather.*\nWe can’t wait to see you\, and remember to follow the yellow truck! \nCome out to see us! Follow the yellow truck!\nFunnelQueens.com\n*Location\, date & time subject to change*\nAll times are in EST
URL:https://funnelqueens.com/schedule/point-church-cary-nc/
LOCATION:Point Church\, 1503 Walnut St.\, Cary\, NC\, 27511\, United States
CATEGORIES:2022 Events,Events
ATTACH;FMTTYPE=image/png:https://funnelqueens.com/wp-content/uploads/2021/05/Funnel-Queens-Truck-Lowes-Garner-NC.png
ORGANIZER;CN="Funnel Queens%C2%AE":MAILTO:Events@FunnelQueens.com
END:VEVENT
BEGIN:VEVENT
DTSTART;TZID=America/New_York:20221029T140000
DTEND;TZID=America/New_York:20221029T160000
DTSTAMP:20260425T202553
CREATED:20221003T003510Z
LAST-MODIFIED:20221003T003511Z
UID:1292-1667052000-1667059200@funnelqueens.com
SUMMARY:Open Door Church (Raleigh\, NC)
DESCRIPTION:The Funnel Queens will be at Open Door Church in Raleigh\, NC on October 29th! \nOctober 29th | 2:00pm – 4:00pm EST\nOpen Door Church\n9801 Durant Rd\nRaleigh\, NC 27614 \n*Location\, Date\, and Time subject to change. Also\, events will be rescheduled if heavy rains or inclement weather.*\nWe can’t wait to see you\, and remember to follow the yellow truck! \nCome out to see us! Follow the yellow truck!\nFunnelQueens.com\n*Location\, date & time subject to change*\nAll times are in EST
URL:https://funnelqueens.com/schedule/open-door-church-raleigh-nc/
LOCATION:Open Door Church\, 9801 Durant Rd\, Raleigh\, NC\, 27614\, United States
CATEGORIES:2022 Events,Events
ATTACH;FMTTYPE=image/png:https://funnelqueens.com/wp-content/uploads/2021/05/Funnel-Queens-Truck-Lowes-Garner-NC.png
ORGANIZER;CN="Funnel Queens%C2%AE":MAILTO:Events@FunnelQueens.com
END:VEVENT
BEGIN:VEVENT
DTSTART;TZID=America/New_York:20221028T174500
DTEND;TZID=America/New_York:20221028T210000
DTSTAMP:20260425T202553
CREATED:20221101T040111Z
LAST-MODIFIED:20221101T040112Z
UID:1320-1666979100-1666990800@funnelqueens.com
SUMMARY:Seaforth High School Homecoming (Pittsboro\, NC)
DESCRIPTION:The Funnel Queens will be at the Seaforth High School Homecoming in Pittsboro\, NC on October 28th! \nOctober 28th | 5:45pm – 9:00pm EST\nSeaforth High School Homecoming\n444 Seaforth Rd.\nPittsboro\, NC 27312 \n*Location\, Date\, and Time subject to change. Also\, events will be rescheduled if heavy rains or inclement weather.*\nWe can’t wait to see you\, and remember to follow the yellow truck! \nCome out to see us! Follow the yellow truck!\nFunnelQueens.com\n*Location\, date & time subject to change*\nAll times are in EST
URL:https://funnelqueens.com/schedule/seaforth-high-school-homecoming-pittsboro-nc/
LOCATION:Seaforth High School\, 444 Seaforth Rd.\, Pittsboro\, NC\, 27312\, United States
CATEGORIES:2022 Events,Events
ATTACH;FMTTYPE=image/png:https://funnelqueens.com/wp-content/uploads/2021/05/Funnel-Queens-Truck-Lowes-Garner-NC.png
ORGANIZER;CN="Funnel Queens%C2%AE":MAILTO:Events@FunnelQueens.com
END:VEVENT
BEGIN:VEVENT
DTSTART;TZID=America/New_York:20221022T120000
DTEND;TZID=America/New_York:20221022T210000
DTSTAMP:20260425T202553
CREATED:20221003T002233Z
LAST-MODIFIED:20221003T002234Z
UID:1286-1666440000-1666472400@funnelqueens.com
SUMMARY:We The Roses Music & Art Festival (Raleigh\, NC)
DESCRIPTION:The Funnel Queens will be at We The Roses Music & Art Festival in Downtown Raleigh\, NC from October 22nd! \nOctober 22 | 12:00pm – 9:00pm EST\nDowntown Raleigh\n306 E Hargett St.\nRaleigh\, NC 27601 \n*Location\, Date\, and Time subject to change. Also\, events will be rescheduled if heavy rains or inclement weather.*\nWe can’t wait to see you\, and remember to follow the yellow truck! \nCome out to see us! Follow the yellow truck!\nFunnelQueens.com\n*Location\, date & time subject to change*\nAll times are in EST
URL:https://funnelqueens.com/schedule/we-the-roses-music-art-festival-raleigh-nc/
LOCATION:We The Roses Music & Art Festival\, 306 E Hargett St.\, Raleigh\, NC\, 27601\, United States
CATEGORIES:2022 Events,Events
ATTACH;FMTTYPE=image/png:https://funnelqueens.com/wp-content/uploads/2021/05/Funnel-Queens-Truck-Lowes-Garner-NC.png
ORGANIZER;CN="Funnel Queens%C2%AE":MAILTO:Events@FunnelQueens.com
END:VEVENT
BEGIN:VEVENT
DTSTART;TZID=America/New_York:20221021T160000
DTEND;TZID=America/New_York:20221021T190000
DTSTAMP:20260425T202553
CREATED:20221011T231733Z
LAST-MODIFIED:20221011T231733Z
UID:1298-1666368000-1666378800@funnelqueens.com
SUMMARY:Leesville Road High School Tailgate (Raleigh\, NC)
DESCRIPTION:The Funnel Queens will be at Leesville Rd. High School Football Tailgate in Raleigh\, NC on October 21st! \nOctober 21st | 4:00pm – 7:00pm EST\nLeesville Road High School\n8410 Pride Way\nRaleigh\, NC 27613 \n*Location\, Date\, and Time subject to change. Also\, events will be rescheduled if heavy rains or inclement weather.*\nWe can’t wait to see you\, and remember to follow the yellow truck! \nCome out to see us! Follow the yellow truck!\nFunnelQueens.com\n*Location\, date & time subject to change*\nAll times are in EST
URL:https://funnelqueens.com/schedule/leesville-road-high-school-tailgate-raleigh-nc/
LOCATION:Leesville Road High School\, 8410 Pride Way\, Raleigh\, NC\, 27613\, United States
CATEGORIES:2022 Events,Events
ATTACH;FMTTYPE=image/png:https://funnelqueens.com/wp-content/uploads/2021/05/Funnel-Queens-Truck-Lowes-Garner-NC.png
ORGANIZER;CN="Funnel Queens%C2%AE":MAILTO:Events@FunnelQueens.com
END:VEVENT
BEGIN:VEVENT
DTSTART;TZID=America/New_York:20221015T100000
DTEND;TZID=America/New_York:20221015T170000
DTSTAMP:20260425T202553
CREATED:20221003T001347Z
LAST-MODIFIED:20221003T001348Z
UID:1283-1665828000-1665853200@funnelqueens.com
SUMMARY:Live Like Ryan (Knightdale\, NC)
DESCRIPTION:The Funnel Queens will be at the Wildwood Elementary School Book Fair in Raleigh\, NC from October 4 – 5! \nOctober 15 | 10:00am – 5:00pm EST\nKnightdale Station Park\n810 N First Ave\nKnightdale\, NC 27545 \n*Location\, Date\, and Time subject to change. Also\, events will be rescheduled if heavy rains or inclement weather.*\nWe can’t wait to see you\, and remember to follow the yellow truck! \nCome out to see us! Follow the yellow truck!\nFunnelQueens.com\n*Location\, date & time subject to change*\nAll times are in EST
URL:https://funnelqueens.com/schedule/live-like-ryan-knightdale-nc/
LOCATION:Live Like Ryan\, 810 N First Ave\, Knightdale\, NC\, 27545\, United States
CATEGORIES:2022 Events,Events
ATTACH;FMTTYPE=image/png:https://funnelqueens.com/wp-content/uploads/2021/05/Funnel-Queens-Truck-Lowes-Garner-NC.png
ORGANIZER;CN="Funnel Queens%C2%AE":MAILTO:Events@FunnelQueens.com
END:VEVENT
BEGIN:VEVENT
DTSTART;TZID=America/New_York:20221008T130000
DTEND;TZID=America/New_York:20221008T180000
DTSTAMP:20260425T202553
CREATED:20221003T000741Z
LAST-MODIFIED:20221003T000742Z
UID:1280-1665234000-1665252000@funnelqueens.com
SUMMARY:2022 Festifall Arts Market & More (Chapel Hill\, NC)
DESCRIPTION:The Funnel Queens will be at the 2022 Festifall Arts Market & More in Chapel Hill\, NC on October 8th! \nOctober 8th | 1:00pm – 6:00pm EST\n140 West Franklin St.\nChapel Hill\, NC 27703 \n*Location\, Date\, and Time subject to change. Also\, events will be rescheduled if heavy rains or inclement weather.*\nWe can’t wait to see you\, and remember to follow the yellow truck! \nCome out to see us! Follow the yellow truck!\nFunnelQueens.com\n*Location\, date & time subject to change*\nAll times are in EST
URL:https://funnelqueens.com/schedule/2022-festifall-arts-market-more-chapel-hill-nc/
LOCATION:Festifall Arts Market & More\, 140 W Franklin St\, Chapel Hill\, NC\, 27703\, United States
CATEGORIES:2022 Events,Events
ATTACH;FMTTYPE=image/png:https://funnelqueens.com/wp-content/uploads/2021/05/Funnel-Queens-Truck-Lowes-Garner-NC.png
ORGANIZER;CN="Funnel Queens%C2%AE":MAILTO:Events@FunnelQueens.com
END:VEVENT
BEGIN:VEVENT
DTSTART;TZID=America/New_York:20221005T170000
DTEND;TZID=America/New_York:20221005T200000
DTSTAMP:20260425T202553
CREATED:20221002T200435Z
LAST-MODIFIED:20221002T200436Z
UID:1277-1664989200-1665000000@funnelqueens.com
SUMMARY:Wildwood Elementary School Book Fair (Raleigh\, NC)
DESCRIPTION:The Funnel Queens will be at the Wildwood Elementary School Book Fair in Raleigh\, NC from October 4 – 5! \nOctober 4 – 5 | 5:00pm – 8:00pm EST\nWildwood Elementary School\n8401 Wild Wood Forest\nRaleigh\, NC 27616 \n*Location\, Date\, and Time subject to change. Also\, events will be rescheduled if heavy rains or inclement weather.*\nWe can’t wait to see you\, and remember to follow the yellow truck! \nCome out to see us! Follow the yellow truck!\nFunnelQueens.com\n*Location\, date & time subject to change*\nAll times are in EST
URL:https://funnelqueens.com/schedule/wildwood-elementary-school-book-fair-raleigh-nc-2/
LOCATION:Wildwood Elementary School\, 8401 Wild Wood Forest\, Raleigh\, NC\, 27616\, United States
CATEGORIES:2022 Events,Events
ATTACH;FMTTYPE=image/png:https://funnelqueens.com/wp-content/uploads/2021/05/Funnel-Queens-Truck-Lowes-Garner-NC.png
ORGANIZER;CN="Funnel Queens%C2%AE":MAILTO:Events@FunnelQueens.com
END:VEVENT
BEGIN:VEVENT
DTSTART;TZID=America/New_York:20221004T170000
DTEND;TZID=America/New_York:20221004T200000
DTSTAMP:20260425T202553
CREATED:20221002T195957Z
LAST-MODIFIED:20221002T195959Z
UID:1274-1664902800-1664913600@funnelqueens.com
SUMMARY:Wildwood Elementary School Book Fair (Raleigh\, NC)
DESCRIPTION:The Funnel Queens will be at the Wildwood Elementary School Book Fair in Raleigh\, NC from October 4 – 5! \nOctober 4 – 5 | 5:00pm – 8:00pm EST\nWildwood Elementary School\n8401 Wild Wood Forest\nRaleigh\, NC 27616 \n*Location\, Date\, and Time subject to change. Also\, events will be rescheduled if heavy rains or inclement weather.*\nWe can’t wait to see you\, and remember to follow the yellow truck! \nCome out to see us! Follow the yellow truck!\nFunnelQueens.com\n*Location\, date & time subject to change*\nAll times are in EST
URL:https://funnelqueens.com/schedule/wildwood-elementary-school-book-fair-raleigh-nc/
LOCATION:Wildwood Elementary School\, 8401 Wild Wood Forest\, Raleigh\, NC\, 27616\, United States
CATEGORIES:2022 Events,Events
ATTACH;FMTTYPE=image/png:https://funnelqueens.com/wp-content/uploads/2021/05/Funnel-Queens-Truck-Lowes-Garner-NC.png
ORGANIZER;CN="Funnel Queens%C2%AE":MAILTO:Events@FunnelQueens.com
END:VEVENT
BEGIN:VEVENT
DTSTART;TZID=America/New_York:20220930T143000
DTEND;TZID=America/New_York:20220930T190000
DTSTAMP:20260425T202553
CREATED:20220902T130700Z
LAST-MODIFIED:20220902T130736Z
UID:1257-1664548200-1664564400@funnelqueens.com
SUMMARY:Leesville Road High School Homecoming Tailgate (Raleigh\, NC)
DESCRIPTION:The Funnel Queens will be at the Leesville High School Homecoming Tailgate in Raleigh\, NC on September 30th! \nSeptember 30th | 2:30pm – 7:00pm EST\nLeesville Road High School\n8410 Pride Way\, Raleigh\, NC 27613 \n*Location\, Date\, and Time subject to change. Also\, events will be rescheduled if heavy rains or inclement weather.*\nWe can’t wait to see you\, and remember to follow the yellow truck! \nCome out to see us! Follow the yellow truck!\nFunnelQueens.com\n*Location\, date & time subject to change*\nAll times are in EST
URL:https://funnelqueens.com/schedule/leesville-road-high-school-homecoming-tailgate-raleigh-nc/
LOCATION:Leesville Road High School\, 8410 Pride Way\, Raleigh\, NC\, 27613\, United States
CATEGORIES:2022 Events,Events
ATTACH;FMTTYPE=image/png:https://funnelqueens.com/wp-content/uploads/2021/05/Funnel-Queens-Truck-Lowes-Garner-NC.png
ORGANIZER;CN="Funnel Queens%C2%AE":MAILTO:Events@FunnelQueens.com
END:VEVENT
BEGIN:VEVENT
DTSTART;TZID=America/New_York:20220915T160000
DTEND;TZID=America/New_York:20220915T200000
DTSTAMP:20260425T202553
CREATED:20220825T042121Z
LAST-MODIFIED:20220915T105334Z
UID:1249-1663257600-1663272000@funnelqueens.com
SUMMARY:Lake Myra Elementary Book Fair (Wendell\, NC)
DESCRIPTION:The Funnel Queens will be at Lake Myra Elementary in Wendell\, NC on September 15th! \nSeptember 15th | 4:00pm – 8:00pm EST\nLake Myra Elementary\n1300 Elk Falls Dr.\nWendell\, NC 27591 \n*Location\, Date\, and Time subject to change. Also\, events will be rescheduled if heavy rains or inclement weather.*\nWe can’t wait to see you\, and remember to follow the yellow truck! \nCome out to see us! Follow the yellow truck!\nFunnelQueens.com\n*Location\, date & time subject to change*\nAll times are in EST
URL:https://funnelqueens.com/schedule/lake-myra-elementary-book-fair-wendell-nc/
LOCATION:Lake Myra Elementary\, 1300 Elk Falls Dr\, Wendell\, NC\, 27591\, United States
CATEGORIES:2022 Events,Events
ATTACH;FMTTYPE=image/png:https://funnelqueens.com/wp-content/uploads/2021/05/Funnel-Queens-Truck-Lowes-Garner-NC.png
ORGANIZER;CN="Funnel Queens%C2%AE":MAILTO:Events@FunnelQueens.com
END:VEVENT
BEGIN:VEVENT
DTSTART;TZID=America/New_York:20220910T110000
DTEND;TZID=America/New_York:20220910T150000
DTSTAMP:20260425T202553
CREATED:20220825T041248Z
LAST-MODIFIED:20220825T041249Z
UID:1246-1662807600-1662822000@funnelqueens.com
SUMMARY:3rd Annual Dual Vendor Affair (Clayton\, NC)
DESCRIPTION:The Funnel Queens will be at the 3rd Annual Dual Vendor Affair in Clayton\, NC on September 10th! \nSeptember 10th | 11:00am – 3:00pm EST\nClayton\, NC Town Square\n110 West Main Street Clayton\, NC 27520 \n*Location\, Date\, and Time subject to change. Also\, events will be rescheduled if heavy rains or inclement weather.*\nWe can’t wait to see you\, and remember to follow the yellow truck! \nCome out to see us! Follow the yellow truck!\nFunnelQueens.com\n*Location\, date & time subject to change*\nAll times are in EST
URL:https://funnelqueens.com/schedule/3rd-annual-dual-vendor-affair-clayton-nc/
LOCATION:Clayton Town Square\, 110 West Main Street\, Clayton\, NC\, 27520\, United States
CATEGORIES:2022 Events,Events
ATTACH;FMTTYPE=image/png:https://funnelqueens.com/wp-content/uploads/2021/04/Funnel-Queens-Truck-Pull-Up-Lowes-Garner-NC.png
ORGANIZER;CN="Funnel Queens%C2%AE":MAILTO:Events@FunnelQueens.com
END:VEVENT
BEGIN:VEVENT
DTSTART;TZID=America/New_York:20220825T160000
DTEND;TZID=America/New_York:20220825T190000
DTSTAMP:20260425T202553
CREATED:20220825T035253Z
LAST-MODIFIED:20220825T042259Z
UID:1243-1661443200-1661454000@funnelqueens.com
SUMMARY:Wendell Middle School Open House (Wendell\, NC)
DESCRIPTION:The Funnel Queens will be at the Wendell Middle School Open House in Wendell\, NC on August 25th! \nAugust 25th | 4:00pm – 7:00pm EST\nWendell Middle School\n3409 NC 97 Highway Wendell\, NC 27591 \n*Location\, Date\, and Time subject to change. Also\, events will be rescheduled if heavy rains or inclement weather.*\nWe can’t wait to see you\, and remember to follow the yellow truck! \nCome out to see us! Follow the yellow truck!\nFunnelQueens.com\n*Location\, date & time subject to change*\nAll times are in EST
URL:https://funnelqueens.com/schedule/wendell-middle-school-open-house-wendell-nc/
LOCATION:Wendell Middle School\, 3409 NC 97 Highway\, Wendell\, NC\, 27591\, United States
CATEGORIES:2022 Events,Events
ATTACH;FMTTYPE=image/png:https://funnelqueens.com/wp-content/uploads/2021/05/Funnel-Queens-Truck-Lowes-Garner-NC.png
ORGANIZER;CN="Funnel Queens%C2%AE":MAILTO:Events@FunnelQueens.com
END:VEVENT
BEGIN:VEVENT
DTSTART;TZID=America/New_York:20220704T170000
DTEND;TZID=America/New_York:20220704T220000
DTSTAMP:20260425T202553
CREATED:20220521T143958Z
LAST-MODIFIED:20220620T194739Z
UID:1214-1656954000-1656972000@funnelqueens.com
SUMMARY:July 4th Celebration (Knightdale\, NC)
DESCRIPTION:The Funnel Queens will be parked at Knightdale Station Park in Knightdale\, NC on July 4th! \nJuly 4th | 5:00pm – 10:00pm EST\nKnightdale Station Park\n801 N First Ave\nKnightdale\, NC 27545 \n*Location\, Date\, and Time subject to change. Also\, events will be rescheduled if heavy rains or inclement weather.*\nWe can’t wait to see you\, and remember to follow the yellow truck! \nCome out to see us! Follow the yellow truck!\nFunnelQueens.com\n*Location\, date & time subject to change*\nAll times are in EST
URL:https://funnelqueens.com/schedule/july-4th-celebration-knightdale-nc/
LOCATION:Knightdale Station Park\, 1st Avenue \, Knightdale\, NC\, 27545\, United States
CATEGORIES:2022 Events,Events
ATTACH;FMTTYPE=image/png:https://funnelqueens.com/wp-content/uploads/2021/05/Funnel-Queens-Truck-Lowes-Garner-NC.png
ORGANIZER;CN="Funnel Queens%C2%AE":MAILTO:Events@FunnelQueens.com
END:VEVENT
BEGIN:VEVENT
DTSTART;TZID=America/New_York:20220703T193000
DTEND;TZID=America/New_York:20220703T220000
DTSTAMP:20260425T202553
CREATED:20220521T143323Z
LAST-MODIFIED:20220521T143348Z
UID:1210-1656876600-1656885600@funnelqueens.com
SUMMARY:Wake Forest Independence Day Celebration (Wake Forest\, NC)
DESCRIPTION:The Funnel Queens will be parked at the 43rd Annual EnoFest in Durham\, NC on July 2nd! \nJuly 3rd | 7:30pm – 10:00pm EST\nHeritage High School\n1150 Forestville Rd.\nWake Forest\, NC 27587 \n*Location\, Date\, and Time subject to change. Also\, events will be rescheduled if heavy rains or inclement weather.*\nWe can’t wait to see you\, and remember to follow the yellow truck! \nCome out to see us! Follow the yellow truck!\nFunnelQueens.com\n*Location\, date & time subject to change*\nAll times are in EST
URL:https://funnelqueens.com/schedule/wake-forest-independence-day-celebration-wake-forest-nc/
LOCATION:Heritage High School\, 1150 Forestville Rd\, Wake Forest\, NC\, 27587\, United States
CATEGORIES:2022 Events,Events
ATTACH;FMTTYPE=image/jpeg:https://funnelqueens.com/wp-content/uploads/2022/05/WFJuly3Fireworks_6DE3AA08-CF52-19AB-944305AD313E4918_6deb77f6-f034-572e-ab297a04d9e344cb.jpeg
ORGANIZER;CN="Funnel Queens%C2%AE":MAILTO:Events@FunnelQueens.com
END:VEVENT
BEGIN:VEVENT
DTSTART;TZID=America/New_York:20220522T173000
DTEND;TZID=America/New_York:20220522T193000
DTSTAMP:20260425T202553
CREATED:20220521T135914Z
LAST-MODIFIED:20220521T135916Z
UID:1200-1653240600-1653247800@funnelqueens.com
SUMMARY:Six Sundays in Spring Event (Wake Forest\, NC)
DESCRIPTION:The Funnel Queens will be parked at the Six Sundays in Spring Event in Wake Forest\, NC on May 22nd! \nMay 22nd | 5:30pm – 7:30pm EST\n701 Harris Road\nWake Forest\, NC 27587 \n*Location\, Date\, and Time subject to change. Also\, events will be rescheduled if heavy rains or inclement weather.*\nWe can’t wait to see you\, and remember to follow the yellow truck! \nCome out to see us! Follow the yellow truck!\nFunnelQueens.com\n*Location\, date & time subject to change*\nAll times are in EST
URL:https://funnelqueens.com/schedule/six-sundays-in-spring-event-wake-forest-nc/
LOCATION:E. Carroll Joyner Park\, 701 Harris Rd\, Wake Forest\, NC\, 27587\, United States
CATEGORIES:2022 Events,Events
ATTACH;FMTTYPE=image/png:https://funnelqueens.com/wp-content/uploads/2021/05/Funnel-Queens-Truck-Lowes-Garner-NC.png
ORGANIZER;CN="Funnel Queens%C2%AE":MAILTO:Events@FunnelQueens.com
END:VEVENT
BEGIN:VEVENT
DTSTART;TZID=America/New_York:20220424T123000
DTEND;TZID=America/New_York:20220424T193000
DTSTAMP:20260425T202553
CREATED:20220422T201613Z
LAST-MODIFIED:20220422T201819Z
UID:1182-1650803400-1650828600@funnelqueens.com
SUMMARY:Bull City Roundup Food Truck Rodeo (Durham\, NC)
DESCRIPTION:The Funnel Queens will be parked at the Bull City Roundup Food Truck Rodeo in Durham\, NC on April 24th! \nApril 24th | 12:30pm – 7:30pm EST\nDowntown Durham\n305 S. Dillard St.\nDurham\, NC 27701 \n*Location\, Date\, and Time subject to change. Also\, events will be rescheduled if heavy rains or inclement weather.*\nWe can’t wait to see you\, and remember to follow the yellow truck! \nCome out to see us! Follow the yellow truck!\nFunnelQueens.com\n*Location\, date & time subject to change*\nAll times are in EST
URL:https://funnelqueens.com/schedule/bull-city-roundup-food-truck-rodeo-durham-nc/
LOCATION:Bull City Roundup Food Truck Rodeo\, 305 S. Dillard St.\, Durham\, NC\, 27701\, United States
CATEGORIES:2022 Events,Events,Food Truck Rodeo
ATTACH;FMTTYPE=image/jpeg:https://funnelqueens.com/wp-content/uploads/2022/04/D8D07C10-C99D-4D16-BC4B-30E974BA49F4.jpg
ORGANIZER;CN="Funnel Queens%C2%AE":MAILTO:Events@FunnelQueens.com
END:VEVENT
END:VCALENDAR