BEGIN:VCALENDAR
VERSION:2.0
PRODID:-//Funnel Queens® - ECPv6.15.10//NONSGML v1.0//EN
CALSCALE:GREGORIAN
METHOD:PUBLISH
X-ORIGINAL-URL:https://funnelqueens.com
X-WR-CALDESC:Events for Funnel Queens®
REFRESH-INTERVAL;VALUE=DURATION:PT1H
X-Robots-Tag:noindex
X-PUBLISHED-TTL:PT1H
BEGIN:VTIMEZONE
TZID:America/New_York
BEGIN:DAYLIGHT
TZOFFSETFROM:-0500
TZOFFSETTO:-0400
TZNAME:EDT
DTSTART:20230312T070000
END:DAYLIGHT
BEGIN:STANDARD
TZOFFSETFROM:-0400
TZOFFSETTO:-0500
TZNAME:EST
DTSTART:20231105T060000
END:STANDARD
BEGIN:DAYLIGHT
TZOFFSETFROM:-0500
TZOFFSETTO:-0400
TZNAME:EDT
DTSTART:20240310T070000
END:DAYLIGHT
BEGIN:STANDARD
TZOFFSETFROM:-0400
TZOFFSETTO:-0500
TZNAME:EST
DTSTART:20241103T060000
END:STANDARD
BEGIN:DAYLIGHT
TZOFFSETFROM:-0500
TZOFFSETTO:-0400
TZNAME:EDT
DTSTART:20250309T070000
END:DAYLIGHT
BEGIN:STANDARD
TZOFFSETFROM:-0400
TZOFFSETTO:-0500
TZNAME:EST
DTSTART:20251102T060000
END:STANDARD
END:VTIMEZONE
BEGIN:VEVENT
DTSTART;TZID=America/New_York:20240420T100000
DTEND;TZID=America/New_York:20240420T120000
DTSTAMP:20260425T202544
CREATED:20240419T235116Z
LAST-MODIFIED:20240419T235117Z
UID:1509-1713607200-1713614400@funnelqueens.com
SUMMARY:Color Run (Cary\, NC)
DESCRIPTION:The Funnel Queens will be at the Color Run at WestCary Middle School in Cary\, NC on April 20th! \nApril 20th | 10:00am – 12:00pm EST\nWest Cary Middle School\n1000 Evans Rd\nCary\, NC 27513 \n*Location\, Date\, and Time subject to change. Also\, events will be rescheduled if heavy rains or inclement weather.*\nWe can’t wait to see you\, and remember to follow the yellow truck! \nCome out to see us! Follow the yellow truck!\nFunnelQueens.com\n*Location\, date & time subject to change*\nAll times are in EST
URL:https://funnelqueens.com/schedule/color-run-cary-nc/
LOCATION:West Cary Middle School\, 1000 Evans Road\, Cary\, NC\, 27513\, United States
CATEGORIES:2024 Events,2024 Events,Events,Schools,Schools and Colleges
ATTACH;FMTTYPE=image/jpeg:https://funnelqueens.com/wp-content/uploads/2022/12/IMG_8709-scaled.jpg
ORGANIZER;CN="Funnel Queens%C2%AE":MAILTO:Events@FunnelQueens.com
END:VEVENT
BEGIN:VEVENT
DTSTART;TZID=America/New_York:20240413T150000
DTEND;TZID=America/New_York:20240413T190000
DTSTAMP:20260425T202544
CREATED:20240321T113913Z
LAST-MODIFIED:20240413T120452Z
UID:1466-1713020400-1713034800@funnelqueens.com
SUMMARY:UNCG SPARTAPALOOZA (Greensboro\, NC)
DESCRIPTION:The Funnel Queens will be at the University of North Carolina Greensboro at SPARTAPALOOZA in Greensboro\, NC on April 13th! \nApril 13th | 3:00pm – 7:00pm EST\nUNCG – Jefferson Suites\n1501 Spring Garden St.\nGreensboro\, NC 27412 \n*Location\, Date\, and Time subject to change. Also\, events will be rescheduled if heavy rains or inclement weather.*\nWe can’t wait to see you\, and remember to follow the yellow truck! \nCome out to see us! Follow the yellow truck!\nFunnelQueens.com\n*Location\, date & time subject to change*\nAll times are in EST
URL:https://funnelqueens.com/schedule/uncg-spartapalooza-greensboro-nc-2/
LOCATION:UNCG – Jefferson Suites\, 1501 Spring Garden St.\, Greensboro\, NC\, 27412\, United States
CATEGORIES:2024 Events,2024 Events,Events
ATTACH;FMTTYPE=image/png:https://funnelqueens.com/wp-content/uploads/2021/05/Funnel-Queens-Truck-Lowes-Garner-NC.png
ORGANIZER;CN="Funnel Queens%C2%AE":MAILTO:Events@FunnelQueens.com
END:VEVENT
BEGIN:VEVENT
DTSTART;TZID=America/New_York:20240405T173000
DTEND;TZID=America/New_York:20240405T203000
DTSTAMP:20260425T202544
CREATED:20240321T115410Z
LAST-MODIFIED:20240321T120152Z
UID:1472-1712338200-1712349000@funnelqueens.com
SUMMARY:Oak City Brewing Company (Knightdale\, NC)
DESCRIPTION:The Funnel Queens will be at Oak City Brewing Company at Knightdale Station Park in Knightdale\, NC on April 5th! \nApril 5th |5:30pm – 8:30pm EST\nOak City Brewing Company\n616 N First Ave\nKnightdale\, NC 27545 \n*Location\, Date\, and Time subject to change. Also\, events will be rescheduled if heavy rains or inclement weather.*\nWe can’t wait to see you\, and remember to follow the yellow truck! \nCome out to see us! Follow the yellow truck!\nFunnelQueens.com\n*Location\, date & time subject to change*\nAll times are in EST
URL:https://funnelqueens.com/schedule/oak-city-brewing-company-knightdale-nc/
LOCATION:Oak City Brewing Company\, 616 N First Ave.\, Knightdale\, NC\, 27545\, United States
CATEGORIES:2024 Events,Pop Ups
ATTACH;FMTTYPE=image/jpeg:https://funnelqueens.com/wp-content/uploads/2022/12/IMG_6124.jpg
ORGANIZER;CN="Funnel Queens%C2%AE":MAILTO:Events@FunnelQueens.com
END:VEVENT
END:VCALENDAR