BEGIN:VCALENDAR
VERSION:2.0
PRODID:-//Funnel Queens® - ECPv6.15.10//NONSGML v1.0//EN
CALSCALE:GREGORIAN
METHOD:PUBLISH
X-ORIGINAL-URL:https://funnelqueens.com
X-WR-CALDESC:Events for Funnel Queens®
REFRESH-INTERVAL;VALUE=DURATION:PT1H
X-Robots-Tag:noindex
X-PUBLISHED-TTL:PT1H
BEGIN:VTIMEZONE
TZID:America/New_York
BEGIN:DAYLIGHT
TZOFFSETFROM:-0500
TZOFFSETTO:-0400
TZNAME:EDT
DTSTART:20220313T070000
END:DAYLIGHT
BEGIN:STANDARD
TZOFFSETFROM:-0400
TZOFFSETTO:-0500
TZNAME:EST
DTSTART:20221106T060000
END:STANDARD
BEGIN:DAYLIGHT
TZOFFSETFROM:-0500
TZOFFSETTO:-0400
TZNAME:EDT
DTSTART:20230312T070000
END:DAYLIGHT
BEGIN:STANDARD
TZOFFSETFROM:-0400
TZOFFSETTO:-0500
TZNAME:EST
DTSTART:20231105T060000
END:STANDARD
BEGIN:DAYLIGHT
TZOFFSETFROM:-0500
TZOFFSETTO:-0400
TZNAME:EDT
DTSTART:20240310T070000
END:DAYLIGHT
BEGIN:STANDARD
TZOFFSETFROM:-0400
TZOFFSETTO:-0500
TZNAME:EST
DTSTART:20241103T060000
END:STANDARD
BEGIN:DAYLIGHT
TZOFFSETFROM:-0500
TZOFFSETTO:-0400
TZNAME:EDT
DTSTART:20250309T070000
END:DAYLIGHT
BEGIN:STANDARD
TZOFFSETFROM:-0400
TZOFFSETTO:-0500
TZNAME:EST
DTSTART:20251102T060000
END:STANDARD
END:VTIMEZONE
BEGIN:VEVENT
DTSTART;TZID=America/New_York:20240323T103000
DTEND;TZID=America/New_York:20240323T123000
DTSTAMP:20260425T185904
CREATED:20240321T114719Z
LAST-MODIFIED:20240321T114719Z
UID:1469-1711189800-1711197000@funnelqueens.com
SUMMARY:Spring Eggstravaganza (Garner\, NC)
DESCRIPTION:The Funnel Queens will be at the town of Garner’s Spring Eggstravaganza in Garner\, NC on March 23rd! \nMarch 23rd | 10:30am – 12:30pm EST\nLake Benson Park\n921 Buffaloe Rd.\nGarner\, NC 27529 \n*Location\, Date\, and Time subject to change. Also\, events will be rescheduled if heavy rains or inclement weather.*\nWe can’t wait to see you\, and remember to follow the yellow truck! \nCome out to see us! Follow the yellow truck!\nFunnelQueens.com\n*Location\, date & time subject to change*\nAll times are in EST
URL:https://funnelqueens.com/schedule/spring-eggstravaganza-garner-nc/
LOCATION:Lake Benson Park\, 921 Buffaloe Rd.\, Garner\, 27529\, United States
CATEGORIES:2023 Events,2024 Events,Events
ATTACH;FMTTYPE=image/png:https://funnelqueens.com/wp-content/uploads/2024/03/Spring-Eggstravaganza-garner-2024.png
ORGANIZER;CN="Funnel Queens%C2%AE":MAILTO:Events@FunnelQueens.com
END:VEVENT
BEGIN:VEVENT
DTSTART;TZID=America/New_York:20230423T130000
DTEND;TZID=America/New_York:20230423T170000
DTSTAMP:20260425T185904
CREATED:20230423T123135Z
LAST-MODIFIED:20230423T123358Z
UID:1423-1682254800-1682269200@funnelqueens.com
SUMMARY:UNCG SPARTAPALOOZA (Greensboro\, NC)
DESCRIPTION:The Funnel Queens will be at the University of North Carolina Greensboro at SPARTAPALOOZA in Greensboro\, NC on April 23rd! \nApril 23rd | 1:00pm – 5:00pm EST\nUNCG – Jefferson Suites\n1501 Spring Garden St.\nGreensboro\, NC 27412 \n*Location\, Date\, and Time subject to change. Also\, events will be rescheduled if heavy rains or inclement weather.*\nWe can’t wait to see you\, and remember to follow the yellow truck! \nCome out to see us! Follow the yellow truck!\nFunnelQueens.com\n*Location\, date & time subject to change*\nAll times are in EST
URL:https://funnelqueens.com/schedule/uncg-spartapalooza-greensboro-nc/
LOCATION:UNCG – Jefferson Suites\, 1501 Spring Garden St.\, Greensboro\, NC\, 27412\, United States
CATEGORIES:2023 Events,2023 Events,Events,Schools and Colleges
ATTACH;FMTTYPE=image/jpeg:https://funnelqueens.com/wp-content/uploads/2023/04/IMG_8781.jpg
ORGANIZER;CN="Funnel Queens%C2%AE":MAILTO:Events@FunnelQueens.com
END:VEVENT
BEGIN:VEVENT
DTSTART;TZID=America/New_York:20230415T100000
DTEND;TZID=America/New_York:20230415T130000
DTSTAMP:20260425T185904
CREATED:20230414T171409Z
LAST-MODIFIED:20230414T172526Z
UID:1414-1681552800-1681563600@funnelqueens.com
SUMMARY:Leith Chrysler Jeep Jam (Raleigh\, NC)
DESCRIPTION:The Funnel Queens will be at the Jeep Jam at Leith Chrysler Jeep off of Capital Blvd in Raleigh\, NC on April 15th! \nApril 15th |10:00am – 1:00pm EST\nLeith Chrysler Jeep\n5500 Capital Blvd.\nRaleigh\, NC 27616 \n*Location\, Date\, and Time subject to change. Also\, events will be rescheduled if heavy rains or inclement weather.*\nWe can’t wait to see you\, and remember to follow the yellow truck! \nCome out to see us! Follow the yellow truck!\nFunnelQueens.com\n*Location\, date & time subject to change*\nAll times are in EST
URL:https://funnelqueens.com/schedule/leith-chrysler-jeep-jam-raleigh-nc/
LOCATION:Leith Chrysler Jeep\, 5500 Capital Blvd\, Raleigh\, NC\, 27616\, United States
CATEGORIES:2023 Events,2023 Events,Events
ATTACH;FMTTYPE=image/jpeg:https://funnelqueens.com/wp-content/uploads/2022/12/IMG_6124.jpg
ORGANIZER;CN="Funnel Queens%C2%AE":MAILTO:Events@FunnelQueens.com
END:VEVENT
BEGIN:VEVENT
DTSTART;TZID=America/New_York:20230325T120000
DTEND;TZID=America/New_York:20230325T150000
DTSTAMP:20260425T185904
CREATED:20230301T053835Z
LAST-MODIFIED:20230301T054256Z
UID:1400-1679745600-1679756400@funnelqueens.com
SUMMARY:Funnel Queens Pop Up (Knightdale\, NC)
DESCRIPTION:The Funnel Queens will be at the Knightdale Station Park in Knightdale\, NC on March 25th! \nMarch 25th |12:00pm – 3:00pm EST\nKnightdale Station Park\n810 N First Ave\nKnightdale\, NC 27545 \n*Location\, Date\, and Time subject to change. Also\, events will be rescheduled if heavy rains or inclement weather.*\nWe can’t wait to see you\, and remember to follow the yellow truck! \nCome out to see us! Follow the yellow truck!\nFunnelQueens.com\n*Location\, date & time subject to change*\nAll times are in EST
URL:https://funnelqueens.com/schedule/funnel-queens-pop-up-knightdale-nc/
LOCATION:Knightdale Station Park\, 1st Avenue \, Knightdale\, NC\, 27545\, United States
CATEGORIES:2023 Events,Pop Ups
ATTACH;FMTTYPE=image/png:https://funnelqueens.com/wp-content/uploads/2023/03/March-2023-Events-1.png
ORGANIZER;CN="Funnel Queens%C2%AE":MAILTO:Events@FunnelQueens.com
END:VEVENT
BEGIN:VEVENT
DTSTART;TZID=America/New_York:20230324T163000
DTEND;TZID=America/New_York:20230324T190000
DTSTAMP:20260425T185904
CREATED:20230324T181208Z
LAST-MODIFIED:20230324T181209Z
UID:1410-1679675400-1679684400@funnelqueens.com
SUMMARY:Waterford Community Event (Morrisville\, NC)
DESCRIPTION:The Funnel Queens will be at the Waterford Apartments Community Event in Morrisville\, NC on March 24th! \nMarch 24th | 4:30pm – 7:00pm EST\nWaterford Apartments\n1000 Park Place Ave.\nMorrisville\, NC 27560 \n*Location\, Date\, and Time subject to change. Also\, events will be rescheduled if heavy rains or inclement weather.*\nWe can’t wait to see you\, and remember to follow the yellow truck! \nCome out to see us! Follow the yellow truck!\nFunnelQueens.com\n*Location\, date & time subject to change*\nAll times are in EST
URL:https://funnelqueens.com/schedule/waterford-community-event-morrisville-nc/
LOCATION:Waterford Apartments\, 1000 Park Place Ave.\, Morrisville\, NC\, 27560\, United States
CATEGORIES:2023 Events,2023 Events,Apartments,Events
ATTACH;FMTTYPE=image/png:https://funnelqueens.com/wp-content/uploads/2023/03/FA5930FC-2334-46EF-AEB2-BF5BC3530768.png
ORGANIZER;CN="Funnel Queens%C2%AE":MAILTO:Events@FunnelQueens.com
END:VEVENT
BEGIN:VEVENT
DTSTART;TZID=America/New_York:20230311T120000
DTEND;TZID=America/New_York:20230311T150000
DTSTAMP:20260425T185904
CREATED:20230301T054553Z
LAST-MODIFIED:20230301T054553Z
UID:1405-1678536000-1678546800@funnelqueens.com
SUMMARY:Funnel Queens Pop Up (Knightdale\, NC)
DESCRIPTION:The Funnel Queens will be at the Knightdale Station Park in Knightdale\, NC on March 11th! \nMarch 11th |12:00pm – 3:00pm EST\nKnightdale Station Park\n810 N First Ave\nKnightdale\, NC 27545 \n*Location\, Date\, and Time subject to change. Also\, events will be rescheduled if heavy rains or inclement weather.*\nWe can’t wait to see you\, and remember to follow the yellow truck! \nCome out to see us! Follow the yellow truck!\nFunnelQueens.com\n*Location\, date & time subject to change*\nAll times are in EST
URL:https://funnelqueens.com/schedule/funnel-queens-pop-up-knightdale-nc-2/
LOCATION:Knightdale Station Park\, 1st Avenue \, Knightdale\, NC\, 27545\, United States
CATEGORIES:2023 Events,Pop Ups
ATTACH;FMTTYPE=image/png:https://funnelqueens.com/wp-content/uploads/2023/03/March-2023-Events-1.png
ORGANIZER;CN="Funnel Queens%C2%AE":MAILTO:Events@FunnelQueens.com
END:VEVENT
BEGIN:VEVENT
DTSTART;TZID=America/New_York:20230302T163000
DTEND;TZID=America/New_York:20230302T200000
DTSTAMP:20260425T185904
CREATED:20230301T053205Z
LAST-MODIFIED:20230301T053205Z
UID:1398-1677774600-1677787200@funnelqueens.com
SUMMARY:Lake Myra Elementary School (Wendell\, NC)
DESCRIPTION:The Funnel Queens will be at Lake Myra Elementary School in Wendell\, NC on March 2nd! \nMarch 2nd | 4:30pm – 8:00pm EST\nLake Myra Elementary School\n1300 Elk Falls Dr.\nWendell\, NC 27591 \n*Location\, Date\, and Time subject to change. Also\, events will be rescheduled if heavy rains or inclement weather.*\nWe can’t wait to see you\, and remember to follow the yellow truck! \nCome out to see us! Follow the yellow truck!\nFunnelQueens.com\n*Location\, date & time subject to change*\nAll times are in EST
URL:https://funnelqueens.com/schedule/lake-myra-elementary-school-wendell-nc/
LOCATION:Lake Myra Elementary\, 1300 Elk Falls Dr\, Wendell\, NC\, 27591\, United States
CATEGORIES:2023 Events
ATTACH;FMTTYPE=image/png:https://funnelqueens.com/wp-content/uploads/2023/03/March-2023-Events-1.png
ORGANIZER;CN="Funnel Queens%C2%AE":MAILTO:Events@FunnelQueens.com
END:VEVENT
END:VCALENDAR